BEGIN:VCALENDAR
VERSION:2.0
PRODID:-//ChamberMaster//Event Calendar 2.0//EN
METHOD:PUBLISH
X-PUBLISHED-TTL:P3D
REFRESH-INTERVAL:P3D
CALSCALE:GREGORIAN
BEGIN:VEVENT
DTSTART:20250410T130000Z
DTEND:20250410T140000Z
X-MICROSOFT-CDO-ALLDAYEVENT:FALSE
SUMMARY:The Business Travelers Series: Navigating Indonesia & Malaysia
DESCRIPTION:Join us on April 10th for a virtual Business Travelers Series session on Navigating Indonesia & Malaysia! We will cover how-tos and best practices for doing business in these markets\, as well as\, how to maneuver through cultural nuances business professionals often face while working with or traveling to Indonesia and Malaysia. Topics of discussion will include\, but are not limited to: Country Overview Business Meetings Gift Giving Communication Business Attire Negotiating Tactics
X-ALT-DESC;FMTTYPE=text/html:Join us on April 10th for a virtual Business Travelers Series session on Navigating Indonesia &amp\; Malaysia! We will cover how-tos and best practices for doing business in these markets\, as well as\, how to maneuver through cultural nuances business professionals often face while working with or traveling to Indonesia and Malaysia. Topics of discussion will include\, but are not limited to: Country Overview Business Meetings Gift Giving Communication Business Attire Negotiating Tactics
LOCATION:Virtual via Zoom
UID:e.307.28218
SEQUENCE:3
DTSTAMP:20260423T180232Z
URL:https://business.grandjen.com/events/details/the-business-travelers-series-navigating-indonesia-malaysia-28218
END:VEVENT

END:VCALENDAR
