BEGIN:VCALENDAR
VERSION:2.0
PRODID:-//ChamberMaster//Event Calendar 2.0//EN
METHOD:PUBLISH
X-PUBLISHED-TTL:P3D
REFRESH-INTERVAL:P3D
CALSCALE:GREGORIAN
BEGIN:VEVENT
DTSTART:20191122T130000Z
DTEND:20191122T140000Z
X-MICROSOFT-CDO-ALLDAYEVENT:FALSE
SUMMARY:CEO Round Table Informational Meeting
DESCRIPTION:Grandville-Jenison Chamber CEO/Round Table Informational Meeting\n\nFriday November 22 8 AM - 9 AM\n\nAre you interested in learning more about joining a newly forming CEO Roundtable? \n\nWe have a small group of members ready to start meeting in January!!!\n\nCan't make the meeting but interested in learning more?\n\nheather@grandjen.com or 616.531.8890\n\n \nManaging and running a business can be a lonely journey. How do others handle the challenges and intensity? With whom can you brainstorm and discuss ideas\, trusting them to give you honest feedback? \n\n\n\nWouldn't it be nice to have a group of like-minded peers within our local business community who share the same values to exchange ideas\, present problems and opportunities\, and help explore the way to new successes in a trusted confidential setting?\n\n\n\nThe Chamber has two fellow members with over ten years' experience facilitating the Grand Rapids Chamber CEO Round Table who have volunteered to lead the first Grandville Jenison Chamber CEO Round Table.\n\n\n\nJoin us on Friday\, August 22 for coffee to discuss guidelines\, format\, and schedule for 2020. . Here are some key points!\n\n\n\nWhat to Expect at Monthly Lunch Meetings - \n\n          ACCESS to seasoned professionals who share their expertise and experience\n\n          The OPPORTUNITY to create an informal board of directors for your company\n\n          CONFIDENTIALITY - A promise of security regarding any information shared during the meetings\n\n          SHARING - As the leader of your company\, you can share your expertise and experience with other roundtable members.
X-ALT-DESC;FMTTYPE=text/html:<div style="text-align: center\;">Grandville-Jenison Chamber CEO/Round Table Informational Meeting<br />\nFriday November 22 8 AM - 9 AM<br />\nAre you interested in learning more about joining a newly forming CEO Roundtable?&nbsp\;<br />\nWe have a small group of members ready to start meeting in January!!!<br />\nCan&rsquo\;t make the meeting but interested in learning more?<br />\n<a href="mailto:sandy@grandjen.com" target="_blank">heather@grandjen.com</a> or <a href="tel:616.531.8890" target="_blank" value="+16165318890">616.531.8890</a><br />\n&nbsp\;</div>\nManaging and running a business can be a lonely journey. How do others handle the challenges and intensity? With whom can you brainstorm and discuss ideas\, trusting them to give you honest feedback?&nbsp\;<br />\n<br />\nWouldn&rsquo\;t it be nice to have a group of like-minded peers within our local business community who share the same values to exchange ideas\, present problems and opportunities\, and help explore the way to new successes in a trusted confidential setting?<br />\n<br />\nThe Chamber has two fellow members with over ten years&rsquo\; experience facilitating the Grand Rapids Chamber CEO Round Table who have volunteered to lead the first Grandville Jenison Chamber CEO Round Table.<br />\n<br />\nJoin us on Friday\, August 22 for coffee to discuss guidelines\, format\, and schedule for 2020. . Here are some key points!<br />\n<br />\n<strong><span style="font-size:18.0pt\;">What to Expect at Monthly Lunch Meetings - </span></strong><br />\n<span style="font-family:symbol\;">&middot\;</span>&nbsp\;&nbsp\;&nbsp\;&nbsp\;&nbsp\;&nbsp\;&nbsp\;&nbsp\; <strong>ACCESS</strong> to seasoned professionals who share their expertise and experience<br />\n<span style="font-family:symbol\;">&middot\;</span>&nbsp\;&nbsp\;&nbsp\;&nbsp\;&nbsp\;&nbsp\;&nbsp\;&nbsp\; The <strong>OPPORTUNITY</strong> to create an informal board of directors for your company<br />\n<span style="font-family:symbol\;">&middot\;</span>&nbsp\;&nbsp\;&nbsp\;&nbsp\;&nbsp\;&nbsp\;&nbsp\;&nbsp\; <strong>CONFIDENTIALITY</strong> - A promise of security regarding any information shared during the meetings<br />\n<span style="font-family:symbol\;">&middot\;</span>&nbsp\;&nbsp\;&nbsp\;&nbsp\;&nbsp\;&nbsp\;&nbsp\;&nbsp\; <strong>SHARING </strong>- As the leader of your company\, you can share your expertise and experience with other roundtable members.<br />\n&nbsp\;<br />\n&nbsp\;
LOCATION:Grandville Jenison Chamber Office 2939 Wilson Ave Ste 106
UID:e.307.26195
SEQUENCE:3
DTSTAMP:20260424T044049Z
URL:https://business.grandjen.com/events/details/ceo-round-table-informational-meeting-26195
END:VEVENT

END:VCALENDAR
